BEGIN:VCALENDAR
VERSION:2.0
PRODID:-//Liga de Familias de Schoenstatt - ECPv6.15.20//NONSGML v1.0//EN
CALSCALE:GREGORIAN
METHOD:PUBLISH
X-WR-CALNAME:Liga de Familias de Schoenstatt
X-ORIGINAL-URL:https://ligafamilias.schoenstatt.es
X-WR-CALDESC:Eventos para Liga de Familias de Schoenstatt
REFRESH-INTERVAL;VALUE=DURATION:PT1H
X-Robots-Tag:noindex
X-PUBLISHED-TTL:PT1H
BEGIN:VTIMEZONE
TZID:UTC
BEGIN:STANDARD
TZOFFSETFROM:+0000
TZOFFSETTO:+0000
TZNAME:UTC
DTSTART:20250101T000000
END:STANDARD
END:VTIMEZONE
BEGIN:VEVENT
DTSTART;TZID=UTC:20260424T080000
DTEND;TZID=UTC:20260426T170000
DTSTAMP:20260424T125754
CREATED:20260302T092637Z
LAST-MODIFIED:20260302T092637Z
UID:1546-1777017600-1777222800@ligafamilias.schoenstatt.es
SUMMARY:FORTA (Abril 2026)
DESCRIPTION:Taller de Fortalecimiento Matrimonial de Schoesntatt (Del 24 al 26 de abril) \n\n¿QUÉ ES EL FORTALECIMIENTO MATRIMONIAL?\n\n\nEl Fortalecimiento Matrimonial\, al que\, cariñosamente llamamos Forta\, nace de un proyecto de Schoenstatt en México en diciembre 1985. Desde allí\, llega a Chile\, Costa Rica\, Paraguay\, Ecuador\, Argentina\, EE.UU.\, Bolivia\, Brasil\, Alemania\, Italia… En 2015\, un grupo de matrimonios españoles viaja a Costa Rica\, para participar del taller y hacer realidad el sueño de traerlo a nuestro país. En septiembre de 2016\, se celebra el primer taller del Fortalecimiento Matrimonial en España. \n​ \nEl Fortalecimiento Matrimonial\, es un taller de fin de semana que permite a los matrimonios reconectar y fortalecer su relación con Dios\, profundizando su vínculo. Está dirigido a matrimonios católicos que enfrentan retos cotidianos. \nPara inscribirse\, aquí: https://docs.google.com/forms/d/1dUZq4_JXCAEj85DB47nxC47Wlvbn9lDpp9iwKaHgaUs/viewform?edit_requested=true \n 
URL:https://ligafamilias.schoenstatt.es/evento/forta-abril-2026/
ATTACH;FMTTYPE=image/jpeg:https://ligafamilias.schoenstatt.es/wp-content/uploads/2026/03/1000173432.jpg
END:VEVENT
END:VCALENDAR